BEGIN:VCALENDAR
PRODID:-//MIADI//DE
BEGIN:VEVENT
UID:Besichtigung Ältester Leuchtturm Deutschlands -1344316
SUMMARY:Besichtigung Ältester Leuchtturm Deutschlands 
DESCRIPTION:Einmalig: der Blick über die großen Fährschiffe\, Travemünde und die Lübecker Bucht! • leuchtturm-travemuende.de
LOCATION:Alter Leuchtturm Travemünde, Am Leuchtenfeld 1, 23570 Travemünde , Deutschland
DTSTART:20260924T130000
DTEND:20260924T160000
END:VEVENT
END:VCALENDAR