BEGIN:VCALENDAR
PRODID:-//MIADI//DE
BEGIN:VEVENT
UID:Ein Afro-Brasilianisches Fest - K 97-983959
SUMMARY:Ein Afro-Brasilianisches Fest - K 97
DESCRIPTION:An den Ufern des Atlantiks - Musik aus Brasilien\, Angola und von den Kapverden\n\nAfter-Show Party mit dj textme
LOCATION:Kulturwerft Gollan\, Halle 9, Einsiedelstraße 6, 23554 Lübeck, Deutschland
DTSTART:20260803T200000
DTEND:20260803T220000
END:VEVENT
END:VCALENDAR