BEGIN:VCALENDAR
PRODID:-//MIADI//DE
BEGIN:VEVENT
UID:Gottesdienst in der St. Lorenz-Kirche Travemünde -1347195
SUMMARY:Gottesdienst in der St. Lorenz-Kirche Travemünde 
DESCRIPTION:Die spätgotische Backsteinkirche bietet viele Sehenswürdigkeiten. • kirche-travemuende.de
LOCATION:St. Lorenz-Kirche Travemünde, Jahrmarktstraße 14, 23570 Travemünde, Deutschland
DTSTART:20260621T100000
DTEND:20260621T110000
END:VEVENT
END:VCALENDAR