BEGIN:VCALENDAR
PRODID:-//MIADI//DE
BEGIN:VEVENT
UID:Golf-Schnupperkurs im Maritim Golfpark Ostsee-1346976
SUMMARY:Golf-Schnupperkurs im Maritim Golfpark Ostsee
DESCRIPTION:Ein Schnupperkurs mit Theorie und Praxis. • maritim-golfpark-ostsee.de
LOCATION:Maritim Golfpark Ostsee\, Warnsdorf/Ratekau bei Travemünde, Schlossstraße 14, 23626 Warnsdorf/Ratekau bei Travemünde, Deutschland
DTSTART:20261010T153000
DTEND:20261010T170000
END:VEVENT
END:VCALENDAR