BEGIN:VCALENDAR
PRODID:-//MIADI//DE
BEGIN:VEVENT
UID:Galerie Anja Es: KUNST! -1126672
SUMMARY:Galerie Anja Es: KUNST! 
DESCRIPTION:Farbenpracht! Internationale Kunst entdecken in einem historischen Travemünder Gebäude. • anja-es-kunst.de
LOCATION:Galerie Anja Es in der Alten Vogtei | Beletage, Vorderreihe 7, 23570 Travemünde, Deutschland
DTSTART:20261012T110000
DTEND:20261012T170000
END:VEVENT
END:VCALENDAR