BEGIN:VCALENDAR
PRODID:-//MIADI//DE
BEGIN:VEVENT
UID:Vogelleben zwischen Fluss und Meer | Ausstellung-1345893
SUMMARY:Vogelleben zwischen Fluss und Meer | Ausstellung
DESCRIPTION:Die Ausstellung in der Naturwerkstatt am Rande des Naturschutzgebietes erzählt von der abwechslungsreichen und faszinierenden Natur des Priwalls. • naturwerkstatt-priwall.de
LOCATION:Naturwerkstatt Priwall, Fliegerweg 5-7, 23570 Travemünde, Deutschland
DTSTART:20260606T100000
DTEND:20260606T160000
END:VEVENT
END:VCALENDAR