BEGIN:VCALENDAR
PRODID:-//MIADI//DE
BEGIN:VEVENT
UID:sail &amp; bike | nach Neustadt und zurück-1352279
SUMMARY:sail & bike | nach Neustadt und zurück
DESCRIPTION:Mit dem E-Bike oberhalb des Brodtener Steilufers von Travemünde nach Niendorf und weiter bis nach Neustadt führt diese Tour. Zurück geht es per Segelyacht über die Lübecker Bucht. • wslb.de
LOCATION:ab/an: Kleiner Fährplatz, Travepromenade, 23570 Travemünde, Deutschland
DTSTART:20260613T110000
DTEND:20260613T180000
END:VEVENT
END:VCALENDAR