BEGIN:VCALENDAR
PRODID:-//MIADI//DE
BEGIN:VEVENT
UID:weit mehr als Meer | Kunstwerke aus Leidenschaft-1346743
SUMMARY:weit mehr als Meer | Kunstwerke aus Leidenschaft
DESCRIPTION:Geschichten vom Urlaub am Meer\, von der Stimmung am Strand und von der Lust aufs Segeln. • kunstnet.de/chrisartelier
LOCATION:Kanzlei am Hafen, Torstraße 1, 23570 Travemünde, Deutschland
DTSTART:20261125T080000
DTEND:20261125T170000
END:VEVENT
END:VCALENDAR