BEGIN:VCALENDAR
PRODID:-//MIADI//DE
BEGIN:VEVENT
UID:Lübecker Volksfest-905948
SUMMARY:Lübecker Volksfest
DESCRIPTION:Das älteste Volksfest Norddeutschlands!
LOCATION:rund um die Musik- und Kongresshalle Lübeck, Willy-Brandt-Allee 10, 23554 Lübeck, Deutschland
DTSTART:20260625T140000
DTEND:20260625T220000
END:VEVENT
END:VCALENDAR