BEGIN:VCALENDAR
PRODID:-//MIADI//DE
BEGIN:VEVENT
UID:Frühlingsfest im Geschichtserlebnisraum Roter Hahn-1359800
SUMMARY:Frühlingsfest im Geschichtserlebnisraum Roter Hahn
DESCRIPTION:Ein bunter Nachmittag mit Musik\, Seiltanz und weiteren Überraschungen. • geschichtserlebnisraum.de
LOCATION:Geschichtserlebnisraum Roter Hahn e.V., Pommernring 58, 23569 Travemünde / Kücknitz, Deutschland
DTSTART:20260509T140000
DTEND:20260509T190000
END:VEVENT
END:VCALENDAR