BEGIN:VCALENDAR
PRODID:-//MIADI//DE
BEGIN:VEVENT
UID:Hochsee-Segeln auf einer schnittigen Yacht | 11.00 und 15.00 Uhr-1360830
SUMMARY:Hochsee-Segeln auf einer schnittigen Yacht | 11.00 und 15.00 Uhr
DESCRIPTION:Faszination Segeln - die Weite der Ostsee mit erfahrenen Segelprofis erleben. Segeltörns täglich um 11.00 und 15.00 Uhr ab Travemünde. • travemuende-tourismus.de/buchen/erlebnisse/erlebnisse
LOCATION:Treffpunkt: BÖBS-Werft Travemünde | Hafenmeister, Travemünder Landstraße 304, 23570 Travemünde, Deutschland
DTSTART:20261030T110000
DTEND:20261030T180000
END:VEVENT
END:VCALENDAR