BEGIN:VCALENDAR
PRODID:-//MIADI//DE
BEGIN:VEVENT
UID:Mittwochsregatta vor Travemünde -1360923
SUMMARY:Mittwochsregatta vor Travemünde 
DESCRIPTION:Spektakuläre Manöver aus nächster Nähe beobachten. Besonders aufregend ist der Start vor der Nordermole! • immer mittwochs ab 18 Uhr • lyc.de
LOCATION:Ostsee vor Travemünde\, Start: vor der Nordermole, Lübecker Bucht / Neustädter Bucht, 23570 Travemünde, Deutschland
DTSTART:20260916T180000
DTEND:20260916T200000
END:VEVENT
END:VCALENDAR