BEGIN:VCALENDAR
PRODID:-//MIADI//DE
BEGIN:VEVENT
UID:Seebadmuseum Travemünde -1347291
SUMMARY:Seebadmuseum Travemünde 
DESCRIPTION:Filme\, Hörstationen und viele Exponate machen die Geschichte Travemündes als Seebad von 1802 bis heute erlebbar. • heimatverein-travemuende.de\n\n
LOCATION:Gesellschaftshaus Travemünde, Torstraße 1, 23570 Travemünde, Deutschland
DTSTART:20260709T110000
DTEND:20260709T170000
END:VEVENT
END:VCALENDAR