BEGIN:VCALENDAR
PRODID:-//MIADI//DE
BEGIN:VEVENT
UID:Kunstausstellung Michael Weigel -1018752
SUMMARY:Kunstausstellung Michael Weigel 
DESCRIPTION:Erlebe die Faszination des Meeres in den Gemälden von Michael Weigel. • weigel-art.de
LOCATION:Galerie im Maritim, Trelleborgallee 2, 23570 Travemünde, Deutschland
DTSTART:20261104T093000
DTEND:20261104T183000
END:VEVENT
END:VCALENDAR