BEGIN:VCALENDAR
PRODID:-//MIADI//DE
BEGIN:VEVENT
UID:Hurricane BootsVermietung Travemünde | Motorboote -1343687
SUMMARY:Hurricane BootsVermietung Travemünde | Motorboote 
DESCRIPTION:Erholsame Stunden auf dem Wasser erleben. • hurricane-bootsvermietung.de 
LOCATION:Hurricane BootsVermietung Travemünde\, Prinzenbrücke, Vorderreihe 59 a, 23570 Travemünde, Deutschland
DTSTART:20260826T100000
DTEND:20260826T180000
END:VEVENT
END:VCALENDAR