BEGIN:VCALENDAR
PRODID:-//MIADI//DE
BEGIN:VEVENT
UID:Hurricane BootsVermietung Travemünde | Motorboote -1343617
SUMMARY:Hurricane BootsVermietung Travemünde | Motorboote 
DESCRIPTION:Erholsame Stunden auf dem Wasser erleben. • hurricane-bootsvermietung.de 
LOCATION:Hurricane BootsVermietung Travemünde\, Prinzenbrücke, Vorderreihe 59 a, 23570 Travemünde, Deutschland
DTSTART:20260617T100000
DTEND:20260617T180000
END:VEVENT
END:VCALENDAR