BEGIN:VCALENDAR
PRODID:-//MIADI//DE
BEGIN:VEVENT
UID:Der Passat Chor | Chorprobe-1127236
SUMMARY:Der Passat Chor | Chorprobe
DESCRIPTION:"Der Passat Chor" ist ein Männerchor. Interessierte sind zur Probe herzlich eingeladen! • passatchor.de\n
LOCATION:Gesellschaftshaus Travemünde, Torstraße 1, 23570 Travemünde, Deutschland
DTSTART:20260903T190000
DTEND:20260903T210000
END:VEVENT
END:VCALENDAR